BEGIN:VCALENDAR
VERSION:2.0
PRODID:-//Tukios.com/
BEGIN:VEVENT
UID:5f8e5de0-9cd4-403a-bc2c-929c2a51c4f3@www.longviewfuneralhome.com
DTSTAMP:20260422T180018Z
DTSTART:20260427T220000Z
DTEND:20260428T000000Z
SUMMARY:Visitation
DESCRIPTION:
URL:https://www.longviewfuneralhome.com/obituaries/roseann-swofford
LOCATION:Connection Point Church 10500 E State Rte 350  Raytown MO 64138
GEO:38.9846777;-94.4570255
END:VEVENT
END:VCALENDAR