BEGIN:VCALENDAR
VERSION:2.0
PRODID:-//Tukios.com/
BEGIN:VEVENT
UID:0519f1b9-33bd-4e0e-9dd1-664c58707620@www.longviewfuneralhome.com
DTSTAMP:20260422T175655Z
DTSTART:20260428T000000Z
DTEND:20260428T010000Z
SUMMARY:Funeral Service
DESCRIPTION:
URL:https://www.longviewfuneralhome.com/obituaries/roseann-swofford
LOCATION:Connection Point Church 10500 E State Rte 350  Raytown MO 64138
GEO:38.9846777;-94.4570255
END:VEVENT
END:VCALENDAR